BEGIN:VCALENDAR
VERSION:2.0
PRODID:-//Atlanta Tornados | The National Squash League - ECPv6.15.20//NONSGML v1.0//EN
CALSCALE:GREGORIAN
METHOD:PUBLISH
X-ORIGINAL-URL:https://www.atlantatornados.com
X-WR-CALDESC:Events for Atlanta Tornados | The National Squash League
REFRESH-INTERVAL;VALUE=DURATION:PT1H
X-Robots-Tag:noindex
X-PUBLISHED-TTL:PT1H
BEGIN:VTIMEZONE
TZID:America/New_York
BEGIN:DAYLIGHT
TZOFFSETFROM:-0500
TZOFFSETTO:-0400
TZNAME:EDT
DTSTART:20230312T070000
END:DAYLIGHT
BEGIN:STANDARD
TZOFFSETFROM:-0400
TZOFFSETTO:-0500
TZNAME:EST
DTSTART:20231105T060000
END:STANDARD
BEGIN:DAYLIGHT
TZOFFSETFROM:-0500
TZOFFSETTO:-0400
TZNAME:EDT
DTSTART:20240310T070000
END:DAYLIGHT
BEGIN:STANDARD
TZOFFSETFROM:-0400
TZOFFSETTO:-0500
TZNAME:EST
DTSTART:20241103T060000
END:STANDARD
BEGIN:DAYLIGHT
TZOFFSETFROM:-0500
TZOFFSETTO:-0400
TZNAME:EDT
DTSTART:20250309T070000
END:DAYLIGHT
BEGIN:STANDARD
TZOFFSETFROM:-0400
TZOFFSETTO:-0500
TZNAME:EST
DTSTART:20251102T060000
END:STANDARD
END:VTIMEZONE
BEGIN:VTIMEZONE
TZID:UTC
BEGIN:STANDARD
TZOFFSETFROM:+0000
TZOFFSETTO:+0000
TZNAME:UTC
DTSTART:20230101T000000
END:STANDARD
END:VTIMEZONE
BEGIN:VTIMEZONE
TZID:America/Kentucky/Louisville
BEGIN:DAYLIGHT
TZOFFSETFROM:-0500
TZOFFSETTO:-0400
TZNAME:EDT
DTSTART:20240310T070000
END:DAYLIGHT
BEGIN:STANDARD
TZOFFSETFROM:-0400
TZOFFSETTO:-0500
TZNAME:EST
DTSTART:20241103T060000
END:STANDARD
BEGIN:DAYLIGHT
TZOFFSETFROM:-0500
TZOFFSETTO:-0400
TZNAME:EDT
DTSTART:20250309T070000
END:DAYLIGHT
BEGIN:STANDARD
TZOFFSETFROM:-0400
TZOFFSETTO:-0500
TZNAME:EST
DTSTART:20251102T060000
END:STANDARD
BEGIN:DAYLIGHT
TZOFFSETFROM:-0500
TZOFFSETTO:-0400
TZNAME:EDT
DTSTART:20260308T070000
END:DAYLIGHT
BEGIN:STANDARD
TZOFFSETFROM:-0400
TZOFFSETTO:-0500
TZNAME:EST
DTSTART:20261101T060000
END:STANDARD
END:VTIMEZONE
BEGIN:VEVENT
DTSTART;TZID=America/New_York:20240608T190000
DTEND;TZID=America/New_York:20240608T210000
DTSTAMP:20260425T202806
CREATED:20231108T224309Z
LAST-MODIFIED:20240423T152508Z
UID:399-1717873200-1717880400@www.atlantatornados.com
SUMMARY:Week 4 - Newport Dragons @ New York City Knights
DESCRIPTION:Divisional Match\, Newport @ New York City
URL:https://www.atlantatornados.com/event/match-3-newsport-new-york-city/
LOCATION:Nicol Squash\, 476 W 42nd Street\, New York\, New York\, 10036
END:VEVENT
BEGIN:VEVENT
DTSTART;TZID=UTC:20240621T190000
DTEND;TZID=UTC:20240621T210000
DTSTAMP:20260425T202806
CREATED:20231108T224753Z
LAST-MODIFIED:20240404T111904Z
UID:407-1718996400-1719003600@www.atlantatornados.com
SUMMARY:NSL Championship
DESCRIPTION:Championship Match\, the winners of each division will face off for the title in Philadelphia
URL:https://www.atlantatornados.com/event/final-match-teams-tbd/
LOCATION:Arlen Specter US Squash Center\, 25 N. 33rd St.\, Philadelphia\, PA\, 19104\, United States
END:VEVENT
BEGIN:VEVENT
DTSTART;TZID=America/Kentucky/Louisville:20250426T180000
DTEND;TZID=America/Kentucky/Louisville:20250426T200000
DTSTAMP:20260425T202806
CREATED:20250404T160503Z
LAST-MODIFIED:20250405T092527Z
UID:3547-1745690400-1745697600@www.atlantatornados.com
SUMMARY:Nashville Crushers @ Atlanta Tornados
DESCRIPTION:
URL:https://www.atlantatornados.com/event/nashville-crushers-atlanta-tornados/
LOCATION:Atlanta Community Squash\, 1019 Collier Rd. NW Ste. A\, Atlanta\, GA\, 30318\, United States
END:VEVENT
BEGIN:VEVENT
DTSTART;TZID=America/Kentucky/Louisville:20250522T190000
DTEND;TZID=America/Kentucky/Louisville:20250522T210000
DTSTAMP:20260425T202806
CREATED:20250404T160647Z
LAST-MODIFIED:20250405T092519Z
UID:3548-1747940400-1747947600@www.atlantatornados.com
SUMMARY:Atlanta Tornados @ Derby CIty Colts
DESCRIPTION:﻿
URL:https://www.atlantatornados.com/event/atlanta-tornados-derby-city-colts/
LOCATION:Louisville Community Squash Center\, 4601 Champions Trace Lane\, Louisville\, KY\, 40218\, United States
END:VEVENT
END:VCALENDAR