BEGIN:VCALENDAR
VERSION:2.0
PRODID:-//Atlanta Tornados | The National Squash League - ECPv6.15.20//NONSGML v1.0//EN
CALSCALE:GREGORIAN
METHOD:PUBLISH
X-WR-CALNAME:Atlanta Tornados | The National Squash League
X-ORIGINAL-URL:https://www.atlantatornados.com
X-WR-CALDESC:Events for Atlanta Tornados | The National Squash League
REFRESH-INTERVAL;VALUE=DURATION:PT1H
X-Robots-Tag:noindex
X-PUBLISHED-TTL:PT1H
BEGIN:VTIMEZONE
TZID:UTC
BEGIN:STANDARD
TZOFFSETFROM:+0000
TZOFFSETTO:+0000
TZNAME:UTC
DTSTART:20230101T000000
END:STANDARD
END:VTIMEZONE
BEGIN:VTIMEZONE
TZID:America/New_York
BEGIN:DAYLIGHT
TZOFFSETFROM:-0500
TZOFFSETTO:-0400
TZNAME:EDT
DTSTART:20230312T070000
END:DAYLIGHT
BEGIN:STANDARD
TZOFFSETFROM:-0400
TZOFFSETTO:-0500
TZNAME:EST
DTSTART:20231105T060000
END:STANDARD
BEGIN:DAYLIGHT
TZOFFSETFROM:-0500
TZOFFSETTO:-0400
TZNAME:EDT
DTSTART:20240310T070000
END:DAYLIGHT
BEGIN:STANDARD
TZOFFSETFROM:-0400
TZOFFSETTO:-0500
TZNAME:EST
DTSTART:20241103T060000
END:STANDARD
BEGIN:DAYLIGHT
TZOFFSETFROM:-0500
TZOFFSETTO:-0400
TZNAME:EDT
DTSTART:20250309T070000
END:DAYLIGHT
BEGIN:STANDARD
TZOFFSETFROM:-0400
TZOFFSETTO:-0500
TZNAME:EST
DTSTART:20251102T060000
END:STANDARD
END:VTIMEZONE
BEGIN:VTIMEZONE
TZID:America/Chicago
BEGIN:DAYLIGHT
TZOFFSETFROM:-0600
TZOFFSETTO:-0500
TZNAME:CDT
DTSTART:20230312T080000
END:DAYLIGHT
BEGIN:STANDARD
TZOFFSETFROM:-0500
TZOFFSETTO:-0600
TZNAME:CST
DTSTART:20231105T070000
END:STANDARD
BEGIN:DAYLIGHT
TZOFFSETFROM:-0600
TZOFFSETTO:-0500
TZNAME:CDT
DTSTART:20240310T080000
END:DAYLIGHT
BEGIN:STANDARD
TZOFFSETFROM:-0500
TZOFFSETTO:-0600
TZNAME:CST
DTSTART:20241103T070000
END:STANDARD
BEGIN:DAYLIGHT
TZOFFSETFROM:-0600
TZOFFSETTO:-0500
TZNAME:CDT
DTSTART:20250309T080000
END:DAYLIGHT
BEGIN:STANDARD
TZOFFSETFROM:-0500
TZOFFSETTO:-0600
TZNAME:CST
DTSTART:20251102T070000
END:STANDARD
END:VTIMEZONE
BEGIN:VEVENT
DTSTART;TZID=UTC:20240621T190000
DTEND;TZID=UTC:20240621T210000
DTSTAMP:20260425T221057
CREATED:20231108T224753Z
LAST-MODIFIED:20240404T111904Z
UID:407-1718996400-1719003600@www.atlantatornados.com
SUMMARY:NSL Championship
DESCRIPTION:Championship Match\, the winners of each division will face off for the title in Philadelphia
URL:https://www.atlantatornados.com/event/final-match-teams-tbd/
LOCATION:Arlen Specter US Squash Center\, 25 N. 33rd St.\, Philadelphia\, PA\, 19104\, United States
END:VEVENT
BEGIN:VEVENT
DTSTART;TZID=America/New_York:20240608T190000
DTEND;TZID=America/New_York:20240608T210000
DTSTAMP:20260425T221057
CREATED:20231108T224309Z
LAST-MODIFIED:20240423T152508Z
UID:399-1717873200-1717880400@www.atlantatornados.com
SUMMARY:Week 4 - Newport Dragons @ New York City Knights
DESCRIPTION:Divisional Match\, Newport @ New York City
URL:https://www.atlantatornados.com/event/match-3-newsport-new-york-city/
LOCATION:Nicol Squash\, 476 W 42nd Street\, New York\, New York\, 10036
END:VEVENT
BEGIN:VEVENT
DTSTART;TZID=America/Chicago:20240518T190000
DTEND;TZID=America/Chicago:20240518T210000
DTSTAMP:20260425T221057
CREATED:20231108T224502Z
LAST-MODIFIED:20240404T111914Z
UID:402-1716058800-1716066000@www.atlantatornados.com
SUMMARY:Week 3 - New York City Knights @ Chicago Grizzlies
DESCRIPTION:Divisional Match\, New York City @ Chicago
URL:https://www.atlantatornados.com/event/match-3-new-york-city-chicago/
LOCATION:University Club of Chicago\, 76 E. Monroe St.\, Chicago\, IL\, 60603\, United States
END:VEVENT
BEGIN:VEVENT
DTSTART;TZID=America/New_York:20240517T190000
DTEND;TZID=America/New_York:20240517T210000
DTSTAMP:20260425T221057
CREATED:20230922T150034Z
LAST-MODIFIED:20240418T194543Z
UID:131-1715972400-1715979600@www.atlantatornados.com
SUMMARY:Week 3 - Nashville Crushers @ Louisville Colts
DESCRIPTION:Divisional Match\, Nashville Crushers @ Louisville Colts
URL:https://www.atlantatornados.com/event/match-2-nashville-at-louisville/
LOCATION:Louisville Boat Club\, 4200 River Road\, Louisville\, KY\, 40207\, United States
END:VEVENT
BEGIN:VEVENT
DTSTART;TZID=America/Chicago:20240504T160000
DTEND;TZID=America/Chicago:20240504T180000
DTSTAMP:20260425T221057
CREATED:20230922T150003Z
LAST-MODIFIED:20240405T191309Z
UID:127-1714838400-1714845600@www.atlantatornados.com
SUMMARY:Week 2 - Atlanta Tornados @ Nashville Crushers
DESCRIPTION:Divisional Match\, Atlanta @ Nashville
URL:https://www.atlantatornados.com/event/match-1-atlanta-at-nashville/
LOCATION:Montgomery Bell Academy\, 4001 Harding Pike\, Nashville\, TN\, 37205\, United States
END:VEVENT
BEGIN:VEVENT
DTSTART;TZID=America/New_York:20240503T190000
DTEND;TZID=America/New_York:20240503T210000
DTSTAMP:20260425T221057
CREATED:20230922T150018Z
LAST-MODIFIED:20240404T111926Z
UID:129-1714762800-1714770000@www.atlantatornados.com
SUMMARY:Week 2 - Chicago Grizzlies @ Newport Dragons
DESCRIPTION:Divisional Match\, Chicago @ Newport
URL:https://www.atlantatornados.com/event/match-1-chicago-at-newport/
LOCATION:St. George’s School\, 372 Purgatory Road\, Middletown\, Rhode Island\, 02842
END:VEVENT
BEGIN:VEVENT
DTSTART;TZID=America/New_York:20240427T175000
DTEND;TZID=America/New_York:20240427T195000
DTSTAMP:20260425T221057
CREATED:20230922T150027Z
LAST-MODIFIED:20240408T180259Z
UID:130-1714240200-1714247400@www.atlantatornados.com
SUMMARY:Week 1 - Louisville Colts @ Atlanta Tornados
DESCRIPTION:Divisional Match – Louisville @ Atlanta\, Match Time TBD
URL:https://www.atlantatornados.com/event/match-2-louisville-at-atlanta/
LOCATION:Atlanta Community Squash\, 1019 Collier Rd. NW Ste. A\, Atlanta\, GA\, 30318\, United States
END:VEVENT
BEGIN:VEVENT
DTSTART;TZID=America/Chicago:20240302T180000
DTEND;TZID=America/Chicago:20240302T193000
DTSTAMP:20260425T221057
CREATED:20231108T224006Z
LAST-MODIFIED:20240404T111931Z
UID:397-1709402400-1709407800@www.atlantatornados.com
SUMMARY:The NSL Draft
DESCRIPTION:The inaugural National Squash League Draft!
URL:https://www.atlantatornados.com/event/draft-day/
LOCATION:e-spaces Nations\, 4900 Centennial Blvd\, Suite 300\, Nashville\, 37209\, United States
END:VEVENT
BEGIN:VEVENT
DTSTART;TZID=America/Chicago:20240302T153000
DTEND;TZID=America/Chicago:20240302T170000
DTSTAMP:20260425T221057
CREATED:20240130T210203Z
LAST-MODIFIED:20240404T111936Z
UID:1028-1709393400-1709398800@www.atlantatornados.com
SUMMARY:Calcutta Pre-Draft Exhibition
DESCRIPTION:NSL team owners will craft their favorite two lineups from the Team USA and Team World player pool\, resulting in a fantastic showdown Saturday before the draft.
URL:https://www.atlantatornados.com/event/calcutta-pre-draft-exhibition/
LOCATION:Montgomery Bell Academy\, 4001 Harding Pike\, Nashville\, TN\, 37205\, United States
END:VEVENT
BEGIN:VEVENT
DTSTART;TZID=America/Chicago:20240302T090000
DTEND;TZID=America/Chicago:20240303T120000
DTSTAMP:20260425T221057
CREATED:20240130T210820Z
LAST-MODIFIED:20240404T111950Z
UID:1031-1709370000-1709467200@www.atlantatornados.com
SUMMARY:NSL Next
DESCRIPTION:Junior players get on court to play with the pros 9am-12pm on Saturday. Sunday morning 9am-12pm\, junior teams representing each of the 6 pro players will face off against one another to see who is crowned the first NSL Next Champion. See ticket page for details.
URL:https://www.atlantatornados.com/event/nsl-next/
LOCATION:Montgomery Bell Academy\, 4001 Harding Pike\, Nashville\, TN\, 37205\, United States
END:VEVENT
BEGIN:VEVENT
DTSTART;TZID=America/Chicago:20240301T170000
DTEND;TZID=America/Chicago:20240301T183000
DTSTAMP:20260425T221057
CREATED:20240130T205149Z
LAST-MODIFIED:20240404T111955Z
UID:1019-1709312400-1709317800@www.atlantatornados.com
SUMMARY:Team USA vs Team World Exhibition
DESCRIPTION:Team USA takes on the higher ranked Team World in an epic clash.
URL:https://www.atlantatornados.com/event/team-usa-vs-team-world-exhibition/
LOCATION:Montgomery Bell Academy\, 4001 Harding Pike\, Nashville\, TN\, 37205\, United States
END:VEVENT
END:VCALENDAR